BEGIN:VCALENDAR
VERSION:2.0
PRODID:-//82.165.162.158//NONSGML kigkonsult.se iCalcreator 2.20//
CALSCALE:GREGORIAN
METHOD:PUBLISH
X-WR-TIMEZONE:Europe/Berlin
BEGIN:VEVENT
UID:event10187@Partycheck
DTSTAMP:20260421T102827Z
CATEGORIES:Party
DESCRIPTION:Abwärts CandyShopNight\nKategorie: Party\nICS-Link: https://par
 tycheck.org/index.php?option=com_jem&view=event&id=10187:190608_abwaerts-c
 andyshopnight&Itemid=288\n
DTSTART;TZID=Europe/Berlin:20190608T200000
DTEND;TZID=Europe/Berlin:20190608T200000
LOCATION:Abwärts Musicclub\,Mühlstraße 43\,67659 Kaiserslautern
SUMMARY:Abwärts CandyShopNight
URL:https://partycheck.org/index.php?option=com_jem&view=event&id=10187:190
 608_abwaerts-candyshopnight&Itemid=288
END:VEVENT
END:VCALENDAR
