BEGIN:VCALENDAR
VERSION:2.0
PRODID:-//82.165.162.158//NONSGML kigkonsult.se iCalcreator 2.20//
CALSCALE:GREGORIAN
METHOD:PUBLISH
X-WR-TIMEZONE:Europe/Berlin
BEGIN:VEVENT
UID:event10401@Partycheck
DTSTAMP:20260421T102806Z
CATEGORIES:80er Jahre
DESCRIPTION:Abwärts 70er 80er Party\nKategorie: 80er Jahre\nICS-Link: https
 ://partycheck.org/index.php?option=com_jem&view=event&id=10401:191123_abwa
 erts-70er-80er-party&Itemid=288\n
DTSTART;TZID=Europe/Berlin:20191123T220000
DTEND;TZID=Europe/Berlin:20191123T220000
LOCATION:Abwärts Musicclub\,Mühlstraße 43\,67659 Kaiserslautern
SUMMARY:Abwärts 70er 80er Party
URL:https://partycheck.org/index.php?option=com_jem&view=event&id=10401:191
 123_abwaerts-70er-80er-party&Itemid=288
END:VEVENT
END:VCALENDAR
