BEGIN:VCALENDAR
VERSION:2.0
PRODID:-//82.165.162.158//NONSGML kigkonsult.se iCalcreator 2.20//
CALSCALE:GREGORIAN
METHOD:PUBLISH
X-WR-TIMEZONE:Europe/Berlin
BEGIN:VEVENT
UID:event10423@Partycheck
DTSTAMP:20260421T102858Z
CATEGORIES:Oberstufe
DESCRIPTION:Abwärts MSS Party VGL-Lauterecken\nKategorie: Oberstufe\nICS-Li
 nk: https://partycheck.org/index.php?option=com_jem&view=event&id=10423:19
 1129_abwaerts-mss-party-vgl-lauterecken&Itemid=288\n
DTSTART;TZID=Europe/Berlin:20191129T193000
DTEND;TZID=Europe/Berlin:20191129T193000
LOCATION:Abwärts Musicclub\,Mühlstraße 43\,67659 Kaiserslautern
SUMMARY:Abwärts MSS Party VGL-Lauterecken
URL:https://partycheck.org/index.php?option=com_jem&view=event&id=10423:191
 129_abwaerts-mss-party-vgl-lauterecken&Itemid=288
END:VEVENT
END:VCALENDAR
