BEGIN:VCALENDAR
VERSION:2.0
PRODID:-//82.165.162.158//NONSGML kigkonsult.se iCalcreator 2.20//
CALSCALE:GREGORIAN
METHOD:PUBLISH
X-WR-TIMEZONE:Europe/Berlin
BEGIN:VEVENT
UID:event12422@Partycheck
DTSTAMP:20260421T101551Z
CATEGORIES:Party
DESCRIPTION:Crazy Monday\nKategorie: Party\nICS-Link: https://partycheck.or
 g/index.php?option=com_jem&view=event&id=12422:crazy-monday&Itemid=288\n
DTSTART;TZID=Europe/Berlin:20241021T200000
DTEND;TZID=Europe/Berlin:20241021T200000
LOCATION:Pflaumenbaum\,Martin Luther Str. 8\,67657 Kaiserslautern
SUMMARY:Crazy Monday
URL:https://partycheck.org/index.php?option=com_jem&view=event&id=12422:cra
 zy-monday&Itemid=288
END:VEVENT
END:VCALENDAR
